BEGIN:VCALENDAR
VERSION:2.0
PRODID:-//MyNashville Magazine - ECPv6.15.19//NONSGML v1.0//EN
CALSCALE:GREGORIAN
METHOD:PUBLISH
X-WR-CALNAME:MyNashville Magazine
X-ORIGINAL-URL:https://mynashvillemagazine.com
X-WR-CALDESC:Events for MyNashville Magazine
REFRESH-INTERVAL;VALUE=DURATION:PT1H
X-Robots-Tag:noindex
X-PUBLISHED-TTL:PT1H
BEGIN:VTIMEZONE
TZID:UTC
BEGIN:STANDARD
TZOFFSETFROM:+0000
TZOFFSETTO:+0000
TZNAME:UTC
DTSTART:20210101T000000
END:STANDARD
END:VTIMEZONE
BEGIN:VEVENT
DTSTART;TZID=UTC:20230422T150000
DTEND;TZID=UTC:20230422T220000
DTSTAMP:20260422T005454
CREATED:20230406T171839Z
LAST-MODIFIED:20230406T171839Z
UID:11638-1682175600-1682200800@mynashvillemagazine.com
SUMMARY:I Love The 90s Bar Crawl
DESCRIPTION:A fun bar crawl around town with all of your favorite 90s clothes\, jams and more!\nClick here for tickets
URL:https://mynashvillemagazine.com/event/i-love-the-90s-bar-crawl/
LOCATION:Kung Fu Saloon\, 1921 Division Street\, Nashville\, TN\, 37203\, United States
ATTACH;FMTTYPE=image/png:https://mynashvillemagazine.com/wp-content/uploads/2023/04/Screenshot-2023-04-06-101736.png
END:VEVENT
BEGIN:VEVENT
DTSTART;VALUE=DATE:20230422
DTEND;VALUE=DATE:20230424
DTSTAMP:20260422T005454
CREATED:20230406T185833Z
LAST-MODIFIED:20230406T185833Z
UID:11676-1682121600-1682294399@mynashvillemagazine.com
SUMMARY:Rock 'n' Roll Nashville
DESCRIPTION:Running options for everyone! Marathon\, half marathon\, 10k\, 5k or the mile run\, join to support St Jude’s!\nRegister Here!
URL:https://mynashvillemagazine.com/event/rock-n-roll-nashville/
LOCATION:Nashville Municipal Auditorium\, 417 4th Ave N\, Nashville\, TN\, 37201\, United States
ATTACH;FMTTYPE=image/jpeg:https://mynashvillemagazine.com/wp-content/uploads/2023/04/rocknrol.jpg
END:VEVENT
BEGIN:VEVENT
DTSTART;TZID=UTC:20230415T174500
DTEND;TZID=UTC:20230415T174500
DTSTAMP:20260422T005454
CREATED:20230406T172634Z
LAST-MODIFIED:20230406T172634Z
UID:11644-1681580700-1681580700@mynashvillemagazine.com
SUMMARY:Luke Combs Concert
DESCRIPTION:Come party with your favorite country singer Luke Combs for one night only in Nashville!\nClick here for tickets
URL:https://mynashvillemagazine.com/event/luke-combs-concert/
LOCATION:Nissan Stadium\, 1 Titans Way\, Nashville\, TN\, 37213\, United States
ATTACH;FMTTYPE=image/jpeg:https://mynashvillemagazine.com/wp-content/uploads/2023/04/luke-combs-nissan-stadium-event-1024x1024-1.jpg
END:VEVENT
BEGIN:VEVENT
DTSTART;TZID=UTC:20230203T090000
DTEND;TZID=UTC:20230205T180000
DTSTAMP:20260422T005454
CREATED:20230123T215322Z
LAST-MODIFIED:20230123T220008Z
UID:11315-1675414800-1675620000@mynashvillemagazine.com
SUMMARY:THE ANTIQUES AND GARDEN SHOW OF NASHVILLE
DESCRIPTION:The Antiques and Garden Show of Nashville takes place at the Music City Center in downtown Nashville every February. More than 150 vendors show spectacular garden spaces\, fine antiques\, and horticultural items at one outstanding three-day show. \nThe Antiques & Gardens Show of Nashville promises another impressive\, entertaining lineup of speakers\, including authors\, designers\, media personalities\, landscape\, and event experts. \nclick here to visit the website
URL:https://mynashvillemagazine.com/event/the-antiques-and-garden-show-of-nashville/
LOCATION:Music City Center\, 201 Rep. John Lewis Way S\,\, Nashville\, TN\, 37203\, United States
ATTACH;FMTTYPE=image/jpeg:https://mynashvillemagazine.com/wp-content/uploads/2023/01/AG-Show-in-Nashville.jpeg
END:VEVENT
BEGIN:VEVENT
DTSTART;TZID=UTC:20221109T200000
DTEND;TZID=UTC:20221109T220000
DTSTAMP:20260422T005454
CREATED:20221102T214147Z
LAST-MODIFIED:20221102T214147Z
UID:11279-1668024000-1668031200@mynashvillemagazine.com
SUMMARY:The CMA Awards
DESCRIPTION:The CMA Awards is an annual event honoring the best in country music\, with star-studded performances\, presenters\, and more. \nEach year\, The CMA Awards nominees and winners are determined by more than 6\,000 industry professional members of the Country Music Association\, which when established in 1958\, became the first trade organization formed to promote an individual genre of music. The first CMA Awards Banquet and Show was held in 1967. The following year\, the CMA Awards was broadcast on NBC Television for the first time – making it the longest running\, annual music awards program on network television. The show began airing on the ABC Television Network in 2006 where it still airs today. \nAt its inception in 1967\, the CMA Awards trophy was designed to resemble a chart bullet. Constructed of a rich walnut and a sturdy marble base\, the trophy signified the strength\, durability and warmth of the genre. A brass music note adorning the center read “Best Liked World Wide\,” CMA’s slogan at the time. The limited supply of walnut wood in 1983 encouraged a transition to crystal\, the material still used today. With the update arrived a new medallion in the center that has been modified only slightly since. \nToday’s 15-inch\, 6-pound trophy is a stylish\, high-value adornment made of hand-blown fine crystal in Florence\, Italy\, with final assembly by Francis & Lusky in Nashville\, Tenn. The CMA logo appears on a tri-level\, die-struck medallion in polished bronze. After the CMA Awards winners have been revealed live on the annual broadcast\, the award is engraved with the winner’s name\, year and CMA Awards category.
URL:https://mynashvillemagazine.com/event/the-cma-awards/
LOCATION:Bridgestone Arena\, 501 Broadway\, Nashville\, TN\, 37203\, United States
ATTACH;FMTTYPE=image/png:https://mynashvillemagazine.com/wp-content/uploads/2022/11/Untitled-design-1.png
END:VEVENT
BEGIN:VEVENT
DTSTART;VALUE=DATE:20221014
DTEND;VALUE=DATE:20221017
DTSTAMP:20260422T005454
CREATED:20221011T200732Z
LAST-MODIFIED:20221011T200732Z
UID:11267-1665705600-1665964799@mynashvillemagazine.com
SUMMARY:Southern Festival of Books
DESCRIPTION:“Oh to escape into the wonderful world of books. Over the years\, we have each grown a deep passion for the authors behind our favorite stories who seem to know us without any introduction. The Annual Southern Festival of Books: A Celebration of the Written Word offers readers and writers from across Tennessee\, and the world\, to celebrate the joy of reading and lifelong learning with more than 100 authors.” \n\nWhen:\nFriday\, October 14: 12-5pm\nSaturday\, October 15: 10am-6pm\nSunday\, October 16: 12-5pm \nWhere:\nWar Memorial Plaza & Nashville Public Library \n\nClick Here for the Website \n \n 
URL:https://mynashvillemagazine.com/event/southern-festival-of-books/
LOCATION:TN
ATTACH;FMTTYPE=image/jpeg:https://mynashvillemagazine.com/wp-content/uploads/2022/10/sfbposterbaisden_1663770510.jpeg
END:VEVENT
BEGIN:VEVENT
DTSTART;TZID=UTC:20220930T190000
DTEND;TZID=UTC:20220930T230000
DTSTAMP:20260422T005454
CREATED:20220926T185333Z
LAST-MODIFIED:20220926T185333Z
UID:11241-1664564400-1664578800@mynashvillemagazine.com
SUMMARY:The Latin Party
DESCRIPTION:Join us for a night of festivities and dance at The Latin Party\, to celebrate Hispanic Heritage Month and 20 years rumbeando with @conexionamericas! \nEnjoy Latin Street Food\, Live Latin Music & DJ\, Carnaval Hora Loca\, Beginner Salsa Class with the Global Education Center\, and much more! \nEarly bird tickets are $50 until August 15\, 2022!\nFrom August 16 – September 30\, tickets are $60. \nYou must be 21+ to attend. \nDon’t wait! Purchase your tickets today and support the mission of Conexión Américas to create a welcoming community where Latino families can belong\, contribute and succeed!
URL:https://mynashvillemagazine.com/event/the-latin-party/
LOCATION:TN
ATTACH;FMTTYPE=image/png:https://mynashvillemagazine.com/wp-content/uploads/2022/09/Untitled-design-2.png
END:VEVENT
BEGIN:VEVENT
DTSTART;TZID=UTC:20220930T170000
DTEND;TZID=UTC:20220930T210000
DTSTAMP:20260422T005454
CREATED:20220926T184432Z
LAST-MODIFIED:20220926T184737Z
UID:11234-1664557200-1664571600@mynashvillemagazine.com
SUMMARY:Musicians Corner Presents September Sundown
DESCRIPTION:Musicians Corner presents September Sundown\, a free outdoor concert series showcasing local Nashville artists throughout the month of September. This FREE\, family-friendly event is open to the public with musical performances and features a variety of food trucks\, local artisans\, and Kidsville activities.\n\n\n \n\n\nHow Much: Free!\n\n\nWhen: SEPTEMBER 30 | 5-9 PM\n\n\nWhere: Centennial Park\n\n\n \n\n\nSCHEDULE:\n\n\n5:00 PM: Shirley H\n\n\n5:45 PM: Valerie Ponzio \n\n\n6:30 PM: Stoop Kids \n\n\n7:20 PM: Nordista Freeze \n\n\n8:15 PM: The Shindellas\n\n\n9:00 PM: Event Ends\n\n\n \n\n\nMusicians Corner is a program of Centennial Park Conservancy\, a 501(c)(3) nonprofit organization that aims to preserve\, enhance\, and share the Parthenon and Centennial Park.
URL:https://mynashvillemagazine.com/event/musicians-corner-presents-september-sundown/
LOCATION:TN
ATTACH;FMTTYPE=image/png:https://mynashvillemagazine.com/wp-content/uploads/2022/09/musicianscorner-fall2022-lineupfinal1.png
END:VEVENT
END:VCALENDAR